BEGIN:VCALENDAR
VERSION:2.0
PRODID:-//สถาบันส่งเสริมการสอนวิทยาศาสตร์และเทคโนโลยี (สสวท.) - ECPv6.15.20//NONSGML v1.0//EN
CALSCALE:GREGORIAN
METHOD:PUBLISH
X-WR-CALNAME:สถาบันส่งเสริมการสอนวิทยาศาสตร์และเทคโนโลยี (สสวท.)
X-ORIGINAL-URL:https://www.ipst.ac.th
X-WR-CALDESC:Events for สถาบันส่งเสริมการสอนวิทยาศาสตร์และเทคโนโลยี (สสวท.)
REFRESH-INTERVAL;VALUE=DURATION:PT1H
X-Robots-Tag:noindex
X-PUBLISHED-TTL:PT1H
BEGIN:VTIMEZONE
TZID:Asia/Bangkok
BEGIN:STANDARD
TZOFFSETFROM:+0700
TZOFFSETTO:+0700
TZNAME:+07
DTSTART:20220101T000000
END:STANDARD
END:VTIMEZONE
BEGIN:VEVENT
DTSTART;TZID=Asia/Bangkok:20230616T083000
DTEND;TZID=Asia/Bangkok:20230616T120000
DTSTAMP:20260426T062829
CREATED:20230510T071131Z
LAST-MODIFIED:20230510T145921Z
UID:42147-1686904200-1686916800@www.ipst.ac.th
SUMMARY:สสวท. จัดการอบรมเสริมความรู้การทำงานวิจัยวิทยาศาสตร์สิ่งแวดล้อม ทางออนไลน์ (สอนสด) ผ่าน Zoom VDO Conference เรื่อง "การออกแบบงานวิจัยสิ่งแวดล้อมด้วยหลักวิธีดำเนินการตรวจวัดของโครงการ GLOBE ที่เน้นงานวิจัยด้านดิน"
DESCRIPTION:สถาบันส่งเสริมการสอนวิทยาศาสตร์และเทคโนโลยี (สสวท.) โดยโครงการ GLOBE เชิญชวนผู้สนใจเข้ารับการอบรมเสริมความรู้การทำงานวิจัยวิทยาศาสตร์สิ่งแวดล้อม ทางออนไลน์ (สอนสด) ผ่าน Zoom VDO Conference เรื่อง “การออกแบบงานวิจัยสิ่งแวดล้อมด้วยหลักวิธีดำเนินการตรวจวัดของโครงการ GLOBE ที่เน้นงานวิจัยด้านดิน”  โดย อาจารย์สมรศรี กันภัย ผู้ชำนาญ โครงการโลกศึกษาเพื่อพัฒนาสิ่งแวดล้อม (GLOBE) สสวท. อบรมในวันที่ 16 มิถุนายน 2566 เวลา 8.30 – 12.00 น. \nคุณสมบัติผู้สนใจ \nครูผู้สอนในโรงเรียนตั้งแต่ระดับชั้นประถมศึกษาปีที่ 4 – มัธยมศึกษาปีที่ 6 ที่มีความสนใจในการทำงานวิจัยวิทยาศาสตร์สิ่งแวดล้อม (ไม่จำกัดจำนวน/โรงเรียน) \nเกณฑ์การประเมินการผ่านการอบรม \n\nลงทะเบียนและให้ข้อมูลครบถ้วนตามที่ สสวท. กำหนด\nเข้าร่วมการอบรมตลอดระยะเวลาการอบรม\nทำแบบทดสอบหลังการอบรม หรือส่งผลงานครบตามเกณฑ์การประเมินผลหลังการอบรมที่ สสวท. กำหนด โดยผู้ผ่านการอบรมตามเกณฑ์ประเมินของ สสวท. ดังกล่าวข้างต้น จะได้รับเกียรติบัตรในการเข้าร่วมการอบรมฯ จาก สสวท.\n\nการรับสมัคร \nลงทะเบียนเข้ารับการอบรมทางออนไลน์ ได้ที่ https://forms.gle/19qEyWTwxNNWNAeXA  ภายในวันที่ 9 มิถุนายน 2566  สอบถามและดูรายละเอียดเพิ่มได้ที่ Facebook : https://www.facebook.com/GLOBEThailandOfficial
URL:https://www.ipst.ac.th/event/globe
CATEGORIES:โครงการ GLOBE
ATTACH;FMTTYPE=image/png:https://www.ipst.ac.th/wp-content/uploads/2023/05/GLOBE20230510-1cover.png
END:VEVENT
END:VCALENDAR