BEGIN:VCALENDAR
VERSION:2.0
PRODID:-//สถาบันส่งเสริมการสอนวิทยาศาสตร์และเทคโนโลยี (สสวท.) - ECPv6.15.20//NONSGML v1.0//EN
CALSCALE:GREGORIAN
METHOD:PUBLISH
X-WR-CALNAME:สถาบันส่งเสริมการสอนวิทยาศาสตร์และเทคโนโลยี (สสวท.)
X-ORIGINAL-URL:https://www.ipst.ac.th
X-WR-CALDESC:Events for สถาบันส่งเสริมการสอนวิทยาศาสตร์และเทคโนโลยี (สสวท.)
REFRESH-INTERVAL;VALUE=DURATION:PT1H
X-Robots-Tag:noindex
X-PUBLISHED-TTL:PT1H
BEGIN:VTIMEZONE
TZID:Asia/Bangkok
BEGIN:STANDARD
TZOFFSETFROM:+0700
TZOFFSETTO:+0700
TZNAME:+07
DTSTART:20210101T000000
END:STANDARD
END:VTIMEZONE
BEGIN:VEVENT
DTSTART;VALUE=DATE:20220622
DTEND;VALUE=DATE:20220923
DTSTAMP:20260425T195137
CREATED:20220627T032346Z
LAST-MODIFIED:20220627T060938Z
UID:29041-1655856000-1663891199@www.ipst.ac.th
SUMMARY:อบรมออนไลน์ การใช้โปรแกรม GSP หลักสูตรที่ 1 พื้นฐานการใช้งานที่เน้นเรขาคณิต #2
DESCRIPTION:อบรมออนไลน์ การใช้โปรแกรม The Geometer’s Sketchpad 5.06 (อบรม GSP)\nหลักสูตรที่ 1 พื้นฐานการใช้งานที่เน้นเรขาคณิต รุ่นที่ 2 \n \n\n เชิญชวนครู บุคลากรทางการศึกษา และผู้ที่สนใจ สมัครเข้าร่วมการอบรม “การใช้โปรแกรม The Geometer’s Sketchpad 5.06 หลักสูตรที่ 1 พื้นฐานการใช้งานที่เน้นเรขาคณิต รุ่นที่ 2” ในรูปแบบออนไลน์ ไม่มีค่าใช้จ่าย \nสมัครและเข้าอบรมได้ที่ https://teacherpd.ipst.ac.th\n ตั้งแต่วันที่ 22 มิ.ย. – 22 ก.ย. 2565 \nรอบพิเศษ ไม่จำกัดจำนวนและไม่มีวุฒิบัตร \n หมายเหตุ ผู้เข้ารับการอบรมต้องใช้โปรแกรม The Geometer’s Sketchpad เวอร์ชัน 5.06 ในการอบรม หากยังไม่มีโปรแกรมสามารถสั่งซื้อได้ที่\nLine ID : @ipstbookstore\ne-mail : ipstbookstore@ipst.ac.th
URL:https://www.ipst.ac.th/event/gsp5-2-2
LOCATION:ระบบอบรมครู Teacher PD\, Thailand
CATEGORIES:teacherpd
END:VEVENT
BEGIN:VEVENT
DTSTART;VALUE=DATE:20220701
DTEND;VALUE=DATE:20221001
DTSTAMP:20260425T195137
CREATED:20220601T075233Z
LAST-MODIFIED:20220602T071522Z
UID:27907-1656633600-1664582399@www.ipst.ac.th
SUMMARY:อบรมออนไลน์ การใช้โปรแกรม GSP หลักสูตรที่ 2 พื้นฐานการใช้งานที่เน้นพีชคณิต
DESCRIPTION:อบรมออนไลน์ การใช้โปรแกรม The Geometer’s Sketchpad 5.06 (อบรม GSP)\nหลักสูตรที่ 2 พื้นฐานการใช้งานที่เน้นพีชคณิต \n \n📅 กำหนดการรับสมัคร : 1 – 15 มิถุนายน 2565 (ระบบรับสมัครอาจปิดก่อนกำหนด หากมีผู้สมัครเกินจำนวนรับมาก)\nประกาศรายชื่อผู้เข้ารับการอบรม : ภายใน 20 มิถุนายน 2565\nระยะเวลาการอบรม : 1 กรกฎาคม – 30 กันยายน 2565\nเปิดระบบสอบ : 1 – 30 กันยายน 2565 \n👩‍🏫 จำกัดเพียง 100 คน โดยแบ่งเป็น\n1. ครูในโครงการโรงเรียนคุณภาพวิทยาศาสตร์ คณิตศาสตร์และเทคโนโลยี ตามมาตรฐาน สสวท. จำนวน 50 คน\n2. ครู บุคลากรทางการศึกษา บุคคลทั่วไป จำนวน 50 คน \nทั้งนี้ สสวท. ขอสงวนสิทธิ์การคัดเลือกครูร่วมอบรมตามลำดับการสมัครก่อน-หลัง ผู้สนใจสามารถสมัครเข้ารับการอบรมได้ที่ : http://bit.ly/3NLhQTA \n📌 #หมายเหตุ ผู้เข้ารับการอบรมต้องใช้โปรแกรม The Geometer’s Sketchpad เวอร์ชัน 5.06 ในการอบรม หากยังไม่มีโปรแกรมสามารถสั่งซื้อได้ที่\nLine ID : @ipstbookstore\ne-mail : ipstbookstore@ipst.ac.th
URL:https://www.ipst.ac.th/event/gsp5-2
LOCATION:ระบบอบรมครู Teacher PD\, Thailand
CATEGORIES:teacherpd
END:VEVENT
BEGIN:VEVENT
DTSTART;VALUE=DATE:20220718
DTEND;VALUE=DATE:20220920
DTSTAMP:20260425T195137
CREATED:20220628T015645Z
LAST-MODIFIED:20220704T064236Z
UID:29060-1658102400-1663631999@www.ipst.ac.th
SUMMARY:อบรมออนไลน์ การจัดการเรียนรู้ฐานสมรรถนะวิชาวิทยาศาสตร์และเทคโนโลยี ประจำปี 2565
DESCRIPTION:อบรมออนไลน์ การจัดการเรียนรู้ฐานสมรรถนะ วิชาวิทยาศาสตร์และเทคโนโลยี \n \nหลักสูตรที่เปิดอบรม\n1. การจัดการเรียนรู้ฐานสมรรถนะ วิชาวิทยาศาสตร์และเทคโนโลยี ช่วงชั้นที่ 1 เรื่อง สวนผักของฉัน\n2. การจัดการเรียนรู้ฐานสมรรถนะ วิชาคณิตศาสตร์ ช่วงชั้นที่ 1 เรื่อง เจ้าสัวตัวน้อย\n3. การจัดการเรียนรู้ฐานสมรรถนะ วิชาวิทยาศาสตร์และเทคโนโลยี ช่วงชั้นที่ 2 เรื่อง ล้วงลับ อุปราคา\n4. การจัดการเรียนรู้ฐานสมรรถนะ วิชาคณิตศาสตร์ ช่วงชั้นที่ 2 เรื่อง คิดรอบด้าน สรรค์สร้างโฮมสเตย์\n5. การจัดการเรียนรู้ฐานสมรรถนะ วิชาเทคโนโลยี ช่วงชั้นที่ 2 เรื่อง ทุกปัญหามีทางออก \n   \n  \nผู้ที่สนใจเข้าร่วมอบรมสามารถลงทะเบียนและอบรมที่ระบบอบรมครู ระบบอบรมครู\nโดยลงทะเบียนได้ตั้งแต่วันที่ 5 กรกฎาคม – 5 สิงหาคม 2565\nและสามารถเข้าอบรมได้ตั้งแต่วันที่ 18 กรกฎาคม – 19 กันยายน 2565 \nและหากต้องการสอบถามข้อมูลเพิ่มเติมเกี่ยวกับการอบรมครูด้วยระบบออนไลน์\nสามารถสอบถามได้ที่ Facebook page\nIPST SMT Teacher ประถมต้น\nIPST SMT Teacher ประถมปลาย\nหรือ Email: smttraining@ipst.ac.th\n————————————————–\n*** Download คู่มือการอบรมครูด้วยระบบออนไลน์ 65 ได้ที่ คู่มือการอบรมครูด้วยระบบออนไลน์ 65
URL:https://www.ipst.ac.th/event/ipstsmt65-1
LOCATION:ระบบอบรมครู Teacher PD\, Thailand
CATEGORIES:teacherpd
END:VEVENT
END:VCALENDAR