BEGIN:VCALENDAR
VERSION:2.0
PRODID:-//สถาบันส่งเสริมการสอนวิทยาศาสตร์และเทคโนโลยี (สสวท.) - ECPv6.15.20//NONSGML v1.0//EN
CALSCALE:GREGORIAN
METHOD:PUBLISH
X-ORIGINAL-URL:https://www.ipst.ac.th
X-WR-CALDESC:Events for สถาบันส่งเสริมการสอนวิทยาศาสตร์และเทคโนโลยี (สสวท.)
REFRESH-INTERVAL;VALUE=DURATION:PT1H
X-Robots-Tag:noindex
X-PUBLISHED-TTL:PT1H
BEGIN:VTIMEZONE
TZID:Asia/Bangkok
BEGIN:STANDARD
TZOFFSETFROM:+0700
TZOFFSETTO:+0700
TZNAME:+07
DTSTART:20220101T000000
END:STANDARD
END:VTIMEZONE
BEGIN:VEVENT
DTSTART;TZID=Asia/Bangkok:20230418T080000
DTEND;TZID=Asia/Bangkok:20230512T170000
DTSTAMP:20260423T073350
CREATED:20230330T070041Z
LAST-MODIFIED:20230331T075608Z
UID:39257-1681804800-1683910800@www.ipst.ac.th
SUMMARY:สสวท. อบรมฟิสิกส์สำหรับครูที่ไม่จบวิชาเอก เรื่อง แรงพยุงของของเหลว รุ่นที่ 2
DESCRIPTION:สสวท. อบรมออนไลน์ ฟิสิกส์สำหรับคที่ไม่จบวิชาเอก เรื่อง แรงพยุงของของเหลว วัตถุประสงค์เพื่อให้ครูระดับชั้นประถมศึกษาตอนปลาย หรือ มัธยมศึกษาตอนต้นที่ไม่จบวิชาเอกฟิสิกส์ และสอนวิชาวิทยาศาสตร์ ได้เข้าใจเนื้อหาวิชาฟิสิกส์ ประกอบด้วยเนื้อหา แนวคิดคลาดเคลื่อน ขอบเขตแนวคิด และแผนผังเชื่อมโยงแนวคิดตามหลักสูตรแกนกลาง พ.ศ. 2551 (ฉบับปรับปรุง พ.ศ. 2560) สร้าง ความเข้าใจที่ถูกต้องทั้งเนื้อหาและขอบเขตการสอน รวมทั้งสะท้อนการเรียนรู้จากการประเมินตนเองอีกด้วย รีบด่วน จำนวน 12 ชั่วโมงเรียน เริ่มเรียน 18 เมษายน 2566 จบชั้นเรียน 12 พฤษภาคม 2566 สอบถามที่อีเมล nicha@ipst.ac.th และ skumm@ipst.ac.th  สนใจสมัครได้ที่ https://learn.teacherpd.ipst.ac.th/courses
URL:https://www.ipst.ac.th/event/teacherpd-physics01
CATEGORIES:teacherpd
ATTACH;FMTTYPE=image/png:https://www.ipst.ac.th/wp-content/uploads/2023/03/physics-5.png
END:VEVENT
BEGIN:VEVENT
DTSTART;TZID=Asia/Bangkok:20230418T080000
DTEND;TZID=Asia/Bangkok:20230616T170000
DTSTAMP:20260423T073350
CREATED:20230330T071013Z
LAST-MODIFIED:20230331T075117Z
UID:39259-1681804800-1686934800@www.ipst.ac.th
SUMMARY:สสวท. อบรมฟิสิกส์สำหรับครูที่ไม่จบวิชาเอก เรื่อง แรงพยุงของของเหลว (INTENSINE) รุ่นที่ 2
DESCRIPTION:สสวท. จัดอบรมออนไลน์ ฟิสิกส์สำหรับครูที่ไม่จบวิชาเอก เรื่อง แรงพยุงของของเหลว วัตถุประสงค์เพื่อให้ครูระดับชั้นประถมศึกษาตอนปลาย หรือ มัธยมศึกษาตอนต้นที่ไม่จบวิชาเอกฟิสิกส์ และสอนวิชาวิทยาศาสตร์ ได้เข้าใจเนื้อหาวิชาฟิสิกส์ ประกอบด้วยเนื้อหา แนวคิดคลาดเคลื่อน ขอบเขตแนวคิด และแผนผังเชื่อมโยงแนวคิดตามหลักสูตรแกนกลาง พ.ศ. 2551 (ฉบับปรับปรุง พ.ศ. 2560) สร้าง ความเข้าใจที่ถูกต้องทั้งเนื้อหาและขอบเขตการสอน รวมทั้งสะท้อนการเรียนรู้จากการประเมินตนเองอีกด้วย รีบด่วนจำนวน 19 ชั่วโมงเรียน เริ่มเรียน 18 เมษายน 2566 – 16 มิถุนายน 2566 และ Meeting zoom วันที่ 13 พฤษภาคม และ 27 พฤษภาคม 2566  สนใจสมัคร ตั้งแต่วันที่ 27 มี.ค. – 12 เม.ย. 2566 ได้ที่  https://learn.teacherpd.ipst.ac.th/courses  สอบถามที่อีเมล nicha@ipst.ac.th และ skumm@ipst.ac.th   
URL:https://www.ipst.ac.th/event/teacherpd-physics-02
CATEGORIES:teacherpd
ATTACH;FMTTYPE=image/png:https://www.ipst.ac.th/wp-content/uploads/2023/03/physics-5-cover.png
END:VEVENT
BEGIN:VEVENT
DTSTART;TZID=Asia/Bangkok:20230502T080000
DTEND;TZID=Asia/Bangkok:20230503T170000
DTSTAMP:20260423T073350
CREATED:20230322T105106Z
LAST-MODIFIED:20230331T074954Z
UID:39084-1683014400-1683133200@www.ipst.ac.th
SUMMARY:สสวท. ขอเชิญครูผู้สอนวิทยาศาสตร์หรือคณิตศาสตร์ประถมศึกษาถึงมัธยมศึกษาตอนต้น สมัครเข้าร่วมกิจกรรมสนทนากลุ่มเพื่อระดมความคิด แนวทาง และสภาพของการปฏิบัติเกี่ยวกับการประเมินเพื่อพัฒนาผู้เรียน (FOMATIVE ASSESSMENT) ในสถานศึกษา
DESCRIPTION:สถาบันส่งเสริมการสอนวิทยาศาสตร์และเทคโนโลยี (สสวท.) ขอเชิญครูผู้สอนวิทยาศาสตร์หรือคณิตศาสตร์ประถมศึกษาถึงมัธยมศึกษาตอนต้น สมัครเข้าร่วมกิจกรรมสนทนากลุ่มเพื่อระดมความคิด แนวทาง และสภาพของการปฏิบัติเกี่ยวกับการประเมินเพื่อพัฒนาผู้เรียน (FOMATIVE ASSESSMENT) ในสถานศึกษา รายละเอียดดังนี้ \n\nวิชาวิทยาศาสตร์ระดับมัธยมศึกษาตอนต้น อบรมวันที่ 19 – 20 เมษายน 2566\nวิชาคณิตศาสตร์ระดับมัธยมศึกษาตอนต้น อบรมวันที่ 24 – 25 เมษายน 2566\nวิชาวิทยาศาสตร์ระดับประถมศึกษา อบรมวันที่ 2 – 3 พฤษภาคม 2566\nวิชาคณิตศาสตร์ระดับประถมศึกษา อบรมวันที่ 8 – 9 พฤษภาคม 2566\n\nการสมัคร : สมัครได้ตั้งแต่บัดนี้ถึงวันที่ 7 เมษายน 2566 คลิกสมัครออนไลน์ที่ https://forms.gle/8qqjEwugNfPSX6Dh6 ทั้งนี้ สสวท. จะติดต่อไปยังผู้ที่ผ่านการคัดเลือกภายในวันที่ 12  เมษายน 2566 สอบถามข้อมูลเพิ่มเติมได้ที่อีเมล : ea@ipst.ac.th \nคุณสมบัติของผู้สมัคร : \n\nเป็นครูผู้สอนวิชาวิทยาศาสตร์หรือคณิตศาสตร์ ระดับชั้นประถมศึกษาถึงมัธยมศึกษาตอนต้น\nมีประสบการณ์ในการสอนอย่างน้อย 3 ปี\nมีความสนใจเพิ่มพูนความรู้และทักษะเกี่ยวกับการจัดการเรียนการสอนและการวัดและประเมินผล\nมีความสนใจเข้าร่วมกิจกรรมต่อเนื่องในโครงการ เช่น การสังเกตการสอน การอบรมครู การทดลองนำร่องเครื่องมือต่าง ๆ เป็นต้น\nสามารถเข้าร่วมกิจกรรมผ่านระบบออนไลน์ได้อย่างต่อเนื่องตลอดทั้ง 2 วัน และมีความยินดีที่จะเปิดกล้อง ตอบคำถาม และร่วมแสดงความคิดเห็นตลอดการทำกิจกรรม
URL:https://www.ipst.ac.th/event/meeting-ipst06
CATEGORIES:teacherpd
ATTACH;FMTTYPE=image/png:https://www.ipst.ac.th/wp-content/uploads/2023/03/ipst20230322-cover.png
END:VEVENT
BEGIN:VEVENT
DTSTART;TZID=Asia/Bangkok:20230508T080000
DTEND;TZID=Asia/Bangkok:20230509T170000
DTSTAMP:20260423T073350
CREATED:20230322T105306Z
LAST-MODIFIED:20230331T074936Z
UID:39086-1683532800-1683651600@www.ipst.ac.th
SUMMARY:สสวท. ขอเชิญครูผู้สอนวิทยาศาสตร์หรือคณิตศาสตร์ประถมศึกษาถึงมัธยมศึกษาตอนต้น สมัครเข้าร่วมกิจกรรมสนทนากลุ่มเพื่อระดมความคิด แนวทาง และสภาพของการปฏิบัติเกี่ยวกับการประเมินเพื่อพัฒนาผู้เรียน (FOMATIVE ASSESSMENT) ในสถานศึกษา
DESCRIPTION:สถาบันส่งเสริมการสอนวิทยาศาสตร์และเทคโนโลยี (สสวท.) ขอเชิญครูผู้สอนวิทยาศาสตร์หรือคณิตศาสตร์ประถมศึกษาถึงมัธยมศึกษาตอนต้น สมัครเข้าร่วมกิจกรรมสนทนากลุ่มเพื่อระดมความคิด แนวทาง และสภาพของการปฏิบัติเกี่ยวกับการประเมินเพื่อพัฒนาผู้เรียน (FOMATIVE ASSESSMENT) ในสถานศึกษา รายละเอียดดังนี้ \n\nวิชาวิทยาศาสตร์ระดับมัธยมศึกษาตอนต้น อบรมวันที่ 19 – 20 เมษายน 2566\nวิชาคณิตศาสตร์ระดับมัธยมศึกษาตอนต้น อบรมวันที่ 24 – 25 เมษายน 2566\nวิชาวิทยาศาสตร์ระดับประถมศึกษา อบรมวันที่ 2 – 3 พฤษภาคม 2566\nวิชาคณิตศาสตร์ระดับประถมศึกษา อบรมวันที่ 8 – 9 พฤษภาคม 2566\n\nการสมัคร : สมัครได้ตั้งแต่บัดนี้ถึงวันที่ 7 เมษายน 2566 คลิกสมัครออนไลน์ที่ https://forms.gle/8qqjEwugNfPSX6Dh6 ทั้งนี้ สสวท. จะติดต่อไปยังผู้ที่ผ่านการคัดเลือกภายในวันที่ 12  เมษายน 2566 สอบถามข้อมูลเพิ่มเติมได้ที่อีเมล : ea@ipst.ac.th \nคุณสมบัติของผู้สมัคร : \n\nเป็นครูผู้สอนวิชาวิทยาศาสตร์หรือคณิตศาสตร์ ระดับชั้นประถมศึกษาถึงมัธยมศึกษาตอนต้น\nมีประสบการณ์ในการสอนอย่างน้อย 3 ปี\nมีความสนใจเพิ่มพูนความรู้และทักษะเกี่ยวกับการจัดการเรียนการสอนและการวัดและประเมินผล\nมีความสนใจเข้าร่วมกิจกรรมต่อเนื่องในโครงการ เช่น การสังเกตการสอน การอบรมครู การทดลองนำร่องเครื่องมือต่าง ๆ เป็นต้น\nสามารถเข้าร่วมกิจกรรมผ่านระบบออนไลน์ได้อย่างต่อเนื่องตลอดทั้ง 2 วัน และมีความยินดีที่จะเปิดกล้อง ตอบคำถาม และร่วมแสดงความคิดเห็นตลอดการทำกิจกรรม
URL:https://www.ipst.ac.th/event/meeting-ipst05
CATEGORIES:teacherpd
ATTACH;FMTTYPE=image/png:https://www.ipst.ac.th/wp-content/uploads/2023/03/ipst20230322-cover.png
END:VEVENT
BEGIN:VEVENT
DTSTART;TZID=Asia/Bangkok:20230513T080000
DTEND;TZID=Asia/Bangkok:20230513T170000
DTSTAMP:20260423T073350
CREATED:20230330T071328Z
LAST-MODIFIED:20230331T074649Z
UID:39261-1683964800-1683997200@www.ipst.ac.th
SUMMARY:สสวท. อบรมฟิสิกส์สำหรับครูที่ไม่จบวิชาเอก เรื่อง แรงพยุงของของเหลว (INTENSINE) รุ่นที่ 2 Meeting zoom (13 พ.ค.66)
DESCRIPTION:สสวท. จัดอบรมออนไลน์ ฟิสิกส์สำหรับครูที่ไม่จบวิชาเอก เรื่อง แรงพยุงของของเหลว วัตถุประสงค์เพื่อให้ครูระดับชั้นประถมศึกษาตอนปลาย หรือ มัธยมศึกษาตอนต้นที่ไม่จบวิชาเอกฟิสิกส์ และสอนวิชาวิทยาศาสตร์ ได้เข้าใจเนื้อหาวิชาฟิสิกส์ ประกอบด้วยเนื้อหา แนวคิดคลาดเคลื่อน ขอบเขตแนวคิด และแผนผังเชื่อมโยงแนวคิดตามหลักสูตรแกนกลาง พ.ศ. 2551 (ฉบับปรับปรุง พ.ศ. 2560) สร้าง ความเข้าใจที่ถูกต้องทั้งเนื้อหาและขอบเขตการสอน รวมทั้งสะท้อนการเรียนรู้จากการประเมินตนเองอีกด้วย รีบด่วนจำนวน 19 ชั่วโมงเรียน เริ่มเรียน 18 เมษายน 2566 – 16 มิถุนายน 2566 และ Meeting zoom วันที่ 13 พฤษภาคม และ 27 พฤษภาคม 2566  สนใจสมัคร ตั้งแต่วันที่ 27 มี.ค. – 12 เม.ย. 2566 ได้ที่  https://learn.teacherpd.ipst.ac.th/courses  สอบถามที่อีเมล nicha@ipst.ac.th และ skumm@ipst.ac.th   
URL:https://www.ipst.ac.th/event/physics-meeting-zm
LOCATION:Zoom Meetings\, Bangkok\, Thailand
CATEGORIES:teacherpd
ATTACH;FMTTYPE=image/png:https://www.ipst.ac.th/wp-content/uploads/2023/03/physics-5-cover.png
END:VEVENT
BEGIN:VEVENT
DTSTART;TZID=Asia/Bangkok:20230527T080000
DTEND;TZID=Asia/Bangkok:20230527T170000
DTSTAMP:20260423T073350
CREATED:20230330T071740Z
LAST-MODIFIED:20230331T074605Z
UID:39263-1685174400-1685206800@www.ipst.ac.th
SUMMARY:สสวท. อบรมฟิสิกส์สำหรับครูที่ไม่จบวิชาเอก เรื่อง แรงพยุงของของเหลว (INTENSINE) รุ่นที่ 2 Meeting zoom (27 พ.ค. 66)
DESCRIPTION:สสวท. จัดอบรมออนไลน์ ฟิสิกส์สำหรับครูที่ไม่จบวิชาเอก เรื่อง แรงพยุงของของเหลว วัตถุประสงค์เพื่อให้ครูระดับชั้นประถมศึกษาตอนปลาย หรือ มัธยมศึกษาตอนต้นที่ไม่จบวิชาเอกฟิสิกส์ และสอนวิชาวิทยาศาสตร์ ได้เข้าใจเนื้อหาวิชาฟิสิกส์ ประกอบด้วยเนื้อหา แนวคิดคลาดเคลื่อน ขอบเขตแนวคิด และแผนผังเชื่อมโยงแนวคิดตามหลักสูตรแกนกลาง พ.ศ. 2551 (ฉบับปรับปรุง พ.ศ. 2560) สร้าง ความเข้าใจที่ถูกต้องทั้งเนื้อหาและขอบเขตการสอน รวมทั้งสะท้อนการเรียนรู้จากการประเมินตนเองอีกด้วย รีบด่วนจำนวน 19 ชั่วโมงเรียน เริ่มเรียน 18 เมษายน 2566 – 16 มิถุนายน 2566 และ Meeting zoom วันที่ 13 พฤษภาคม และ 27 พฤษภาคม 2566  สนใจสมัคร ตั้งแต่วันที่ 27 มี.ค. – 12 เม.ย. 2566 ได้ที่  https://learn.teacherpd.ipst.ac.th/courses  สอบถามที่อีเมล nicha@ipst.ac.th และ skumm@ipst.ac.th    
URL:https://www.ipst.ac.th/event/physices-zm01
LOCATION:Zoom Meetings\, Bangkok\, Thailand
CATEGORIES:teacherpd
ATTACH;FMTTYPE=image/png:https://www.ipst.ac.th/wp-content/uploads/2023/03/physics-5-cover.png
END:VEVENT
END:VCALENDAR