BEGIN:VCALENDAR
VERSION:2.0
PRODID:-//สถาบันส่งเสริมการสอนวิทยาศาสตร์และเทคโนโลยี (สสวท.) - ECPv6.15.20//NONSGML v1.0//EN
CALSCALE:GREGORIAN
METHOD:PUBLISH
X-WR-CALNAME:สถาบันส่งเสริมการสอนวิทยาศาสตร์และเทคโนโลยี (สสวท.)
X-ORIGINAL-URL:https://www.ipst.ac.th
X-WR-CALDESC:Events for สถาบันส่งเสริมการสอนวิทยาศาสตร์และเทคโนโลยี (สสวท.)
REFRESH-INTERVAL;VALUE=DURATION:PT1H
X-Robots-Tag:noindex
X-PUBLISHED-TTL:PT1H
BEGIN:VTIMEZONE
TZID:Asia/Bangkok
BEGIN:STANDARD
TZOFFSETFROM:+0700
TZOFFSETTO:+0700
TZNAME:+07
DTSTART:20220101T000000
END:STANDARD
END:VTIMEZONE
BEGIN:VEVENT
DTSTART;TZID=Asia/Bangkok:20230601T080000
DTEND;TZID=Asia/Bangkok:20230831T170000
DTSTAMP:20260423T050503
CREATED:20230522T043504Z
LAST-MODIFIED:20230522T054344Z
UID:42546-1685606400-1693501200@www.ipst.ac.th
SUMMARY:สสวท. อบรมครูด้วยระบบออนไลน์ ประจำปี 2566 หลักสูตรการจัดการเรียนรู้ฐานสมรรถนะ  IPST SMT ปี 2566
DESCRIPTION:  \nสถาบันส่งเสริมการสอนวิทยาศาสตร์และเทคโนโลยี (สสวท.) เปิดรับสมัครการอบรมครูด้วยระบบออนไลน์ ประจำปี 2566 หลักสูตรการจัดการเรียนรู้ฐานสมรรถนะ  IPST SMT ประจำปี 2566 หลักสูตรรีรัน ผู้สนใจสมัครและลงทะเบียนได้ตั้งแต่วันที่ 1 มิถุนายน – 25 สิงหาคม 2566 \nการอบรมครูด้วยระบบออนไลน์ ประจำปี 2566 หลักสูตรรีรัน (https://ipst.me/pr0113) ประกอบด้วยดังนี้ \n\nการจัดการเรียนรู้ฐานสมรรถนะ วิชาวิทยาศาสตร์และเทคโนโลยี ช่วงชั้นที่ 1 เรื่อง สวนผักของฉัน รุ่นที่ 2\nการจัดการเรียนรู้ฐานสมรรถนะ วิชาคณิตศาสตร์ ช่วงชั้นที่ 1 เรื่อง เจ้าสัวตัวน้อย รุ่นที่ 2\nการจัดการเรียนรู้ฐานสมรรถนะ วิชาวิทยาศาสตร์และเทคโนโลยี ช่วงชั้นที่ 2 เรื่อง ล้วงลับ อุปราคา รุ่นที่ 2\nการจัดการเรียนรู้ฐานสมรรถนะ วิชาคณิตศาสตร์ ช่วงชั้นที่ 2 เรื่อง คิดรอบด้าน สรรค์สร้างโฮมสเตย์ รุ่นที่ 2\nการจัดการเรียนรู้ฐานสมรรถนะ วิชาเทคโนโลยี ช่วงชั้นที่ 2 เรื่อง ทุกปัญหามีทางออก รุ่นที่ 2\n\nดาวน์โหลดคู่มือการอบรมที่นี่ : https://bit.ly/3Vo9Tsz \nผู้ที่สนใจเข้าร่วมอบรมสามารถลงทะเบียนและอบรมที่ระบบอบรมครู สสวท. https://teacherpd.ipst.ac.th โดยลงทะเบียนได้ตั้งแต่วันที่ 1 มิถุนายน – 25 สิงหาคม 2566 และสามารถเข้าอบรมได้ตั้งแต่วันที่ 1 มิถุนายน – 31 สิงหาคม 2566 \nสอบถามข้อมูลเพิ่มเติมเกี่ยวกับการอบรมครูด้วยระบบออนไลน์ สามารถสอบถามได้ที่ Facebook page: IPST SMT Teacher ประถมต้น และ IPST SMT Teacher ประถมปลาย หรือสอบถามที่ Email: smttraining@ipst.ac.th
URL:https://www.ipst.ac.th/event/ipst-smt66
CATEGORIES:teacherpd
ATTACH;FMTTYPE=image/png:https://www.ipst.ac.th/wp-content/uploads/2023/05/IPST-SMT-2566-01-1-cover.png
END:VEVENT
BEGIN:VEVENT
DTSTART;TZID=Asia/Bangkok:20230601T080000
DTEND;TZID=Asia/Bangkok:20230831T170000
DTSTAMP:20260423T050503
CREATED:20230531T044154Z
LAST-MODIFIED:20230531T130919Z
UID:44508-1685606400-1693501200@www.ipst.ac.th
SUMMARY:สสวท. ขอเชิญครูวิทยาการคำนวณ ครูวิชาอื่นที่สนใจ บุคลากรทางการศึกษาทุกสังกัด หรือผู้สนใจทั่วไปเข้าร่วมอบรมแบบออนไลน์ในหลักสูตรเกี่ยวกับบวิทยาการคำนวณ 
DESCRIPTION:สถาบันส่งเสริมการสอนวิทยาศาสตร์และเทคโนโลยี (สสวท.) ขอเชิญครูวิทยาการคำนวณ ครูวิชาอื่นที่สนใจ บุคลากรทางการศึกษาทุกสังกัด หรือผู้สนใจทั่วไปเข้าร่วมอบรมแบบออนไลน์ในหลักสูตรเกี่ยวกับบวิทยาการคำนวณ \n– วิทยาศาสตร์ข้อมูลด้วยอุตุน้อย 1 หลักสูตร (20 ชั่วโมง)\n– ปัญญาประดิษฐ์สำหรับโรงเรียน รุ่น 4 (AI for School: 4 Level) 4 หลักสูตร (หลักสูตรละ 8 ชั่วโมง)\n– การรู้ดิจิทัล (Digital Literacy) 1 หลักสูตร (12 ชั่วโมง) \nทุกหลักสูตรลงทะเบียนและอบรมฟรีด้วยตนเองวันที่ 1 มิถุนายน – 31 สิงหาคม 2566 ผ่านเว็บไซต์ https://teacherpd.ipst.ac.th/ เมื่อผ่านเกณฑ์การอบรม สามารถดาวน์โหลดวุฒิบัตรผ่านระบบอบรมได้ทันที \nหากมีข้อสงสัย หรือสอบถามเกี่ยวกับเนื้อหาการอบรม สามารถสอบถามข้อมูลผ่านกระดานสนทนาของแต่ละหลักสูตร หรือสอบถามข้อมูลเพิ่มเติมโดยส่งข้อความได้ที่เพจเฟซบุ๊ก สาขาคอมพิวเตอร์ สสวท. \nหากต้องการสอบถามเกี่ยวกับการเข้าสู่ระบบการอบรม สามารถสอถามผู้ดูแลระบบได้ที่อีเมล teacherpd@ipst.ac.th โดยระบุปัญหาที่เกิดขึ้นให้ชัดเจน
URL:https://www.ipst.ac.th/event/coding-2
CATEGORIES:teacherpd
ATTACH;FMTTYPE=image/png:https://www.ipst.ac.th/wp-content/uploads/2023/05/1685507532098-cover.png
END:VEVENT
END:VCALENDAR