BEGIN:VCALENDAR
VERSION:2.0
PRODID:-//สถาบันส่งเสริมการสอนวิทยาศาสตร์และเทคโนโลยี (สสวท.) - ECPv6.15.20//NONSGML v1.0//EN
CALSCALE:GREGORIAN
METHOD:PUBLISH
X-WR-CALNAME:สถาบันส่งเสริมการสอนวิทยาศาสตร์และเทคโนโลยี (สสวท.)
X-ORIGINAL-URL:https://www.ipst.ac.th
X-WR-CALDESC:Events for สถาบันส่งเสริมการสอนวิทยาศาสตร์และเทคโนโลยี (สสวท.)
REFRESH-INTERVAL;VALUE=DURATION:PT1H
X-Robots-Tag:noindex
X-PUBLISHED-TTL:PT1H
BEGIN:VTIMEZONE
TZID:Asia/Bangkok
BEGIN:STANDARD
TZOFFSETFROM:+0700
TZOFFSETTO:+0700
TZNAME:+07
DTSTART:20220101T000000
END:STANDARD
END:VTIMEZONE
BEGIN:VEVENT
DTSTART;TZID=Asia/Bangkok:20230909T080000
DTEND;TZID=Asia/Bangkok:20230910T170000
DTSTAMP:20260423T023351
CREATED:20230405T071257Z
LAST-MODIFIED:20230418T091818Z
UID:39580-1694246400-1694365200@www.ipst.ac.th
SUMMARY:การประชุมวิชาการโรงเรียนคุณภาพ SMT ตามมาตรฐาน สสวท. (รูปแบบออนไลน์) ประจำปี 2566 ระหว่างวันที่ 9 - 10 กันยายน 2566
DESCRIPTION:สถาบันส่งเสริมการสอนวิทยาศาสตร์และเทคโนโลยี (สสวท.) จัดการประชุมวิชาการโรงเรียนคุณภาพ SMT ตามมาตรฐาน สสวท. (รูปแบบออนไลน์) ประจำปี 2566 ระหว่างวันที่ 9 – 10 กันยายน 2566  รับสัครโรงเรียนในโครงการฯ  โดยเตรียมส่งผลงานเพื่อรับการคัดเลือกให้นำเสนอในการประชุมวิชาการ ประกอบด้วย \n– ผลงานด้านการบริหารจัดการ \n– ผลงานครู \n– ผลงานนักเรียน \nเปิดรับผลงาน 1 มิ.ย.- 28 ก.ค. 2566 \nผลงานที่นำส่งมีสิทธิ์ได้รับโล่รางวัลและเกียรติบัตรตามเงื่อนไข สสวท. \nศึกษาข้อมูลเพิ่มเติม : http://bit.ly/3Tw5aEp
URL:https://www.ipst.ac.th/event/20230405_smt
CATEGORIES:teacherpd
ATTACH;FMTTYPE=image/jpeg:https://www.ipst.ac.th/wp-content/uploads/2023/04/20230405-news01-cover.jpg
END:VEVENT
END:VCALENDAR