BEGIN:VCALENDAR
VERSION:2.0
PRODID:-//สถาบันส่งเสริมการสอนวิทยาศาสตร์และเทคโนโลยี (สสวท.) - ECPv6.15.20//NONSGML v1.0//EN
CALSCALE:GREGORIAN
METHOD:PUBLISH
X-ORIGINAL-URL:https://www.ipst.ac.th
X-WR-CALDESC:Events for สถาบันส่งเสริมการสอนวิทยาศาสตร์และเทคโนโลยี (สสวท.)
REFRESH-INTERVAL;VALUE=DURATION:PT1H
X-Robots-Tag:noindex
X-PUBLISHED-TTL:PT1H
BEGIN:VTIMEZONE
TZID:Asia/Bangkok
BEGIN:STANDARD
TZOFFSETFROM:+0700
TZOFFSETTO:+0700
TZNAME:+07
DTSTART:20230101T000000
END:STANDARD
END:VTIMEZONE
BEGIN:VEVENT
DTSTART;TZID=Asia/Bangkok:20240115T080000
DTEND;TZID=Asia/Bangkok:20240415T170000
DTSTAMP:20260422T181018
CREATED:20240315T114608Z
LAST-MODIFIED:20240315T134832Z
UID:59230-1705305600-1713200400@www.ipst.ac.th
SUMMARY:สสวท. หนุนครูอัปเดตความรู้อบรมเชิงปฏิบัติการวิทยาศาสตร์ข้อมูลด้วยอุตุน้อยแบบออนไลน์ รุ่น 2 ฟรี
DESCRIPTION:  \nสถาบันส่งเสริมการสอนวิทยาศาสตร์และเทคโนโลยี (สสวท.) ชวนคุณครูสมัครอบรมเชิงปฏิบัติการวิทยาศาสตร์ข้อมูลด้วยอุตุน้อยแบบออนไลน์ รุ่น 2 เพื่อเรียนรู้การใช้วิทยาการข้อมูลในการสำรวจ วิเคราะห์ความสัมพันธ์ และนำเสนอข้อมูลเพื่อเปรียบเทียบความแตกต่างของสภาพภูมิกาศในแต่ละภูมิภาคของประเทศ  สามารถใช้ข้อมูลจากฐานข้อมูลในการสำรวจ วิเคราะห์ นำเสนอ อภิปรายผล และใช้ประโยชน์จากผลลัพธ์ของข้อมูลในการวางแผนแก้ปัญหาให้ชุมชนได้  โดยตระหนักถึงการเปลี่ยนแปลงของสภาพภูมิอากาศที่ส่งผลกระทบต่อชีวิตประจำวันและถ่ายทอดได้ จำนวน 20 ชั่วโมง ผ่านการรับรองหลักสูตรจาก ก.ค.ศ.แล้ว สมัครและเรียนได้เลยฟรีที่ระบบอบรมครู สสวท. https://learn.teacherpd.ipst.ac.th/courses สอบถามที่อีเมล teacherpd@ipst.ac.th อบรมได้ถึง 15 เมษายน 2567
URL:https://www.ipst.ac.th/event/teacherpd-globe
CATEGORIES:teacherpd,โครงการ GLOBE
END:VEVENT
END:VCALENDAR